BEGIN:VCALENDAR
VERSION:2.0
PRODID:spatie/icalendar-generator
DESCRIPTION:Events from Anthea McGibbon
X-WR-CALDESC:Events from Anthea McGibbon
REFRESH-INTERVAL;VALUE=DURATION:PT1440M
X-PUBLISHED-TTL:PT1440M
BEGIN:VTIMEZONE
TZID:America/Los_Angeles
BEGIN:STANDARD
DTSTART:20251102T020000Z
TZOFFSETFROM:-0700
TZOFFSETTO:-0800
END:STANDARD
BEGIN:DAYLIGHT
DTSTART:20260308T020000Z
TZOFFSETFROM:-0800
TZOFFSETTO:-0700
END:DAYLIGHT
END:VTIMEZONE
BEGIN:VTIMEZONE
TZID:UTC
BEGIN:STANDARD
DTSTART:20250729T011733Z
TZOFFSETFROM:+0000
TZOFFSETTO:+0000
END:STANDARD
END:VTIMEZONE
BEGIN:VEVENT
UID:164-62
DTSTAMP:20260425T011733Z
SUMMARY:Business expo in Kingston
LOCATION:
ORGANIZER;CN=Anthea:MAILTO:islandartattack@yahoo.co.uk
DTSTART;TZID=America/Los_Angeles;VALUE=DATE:20260421
DTEND;TZID=America/Los_Angeles;VALUE=DATE:20260422
X-ALT-DESC;FMTTYPE=TEXT/HTML:<p>Odoo</p>\n
CATEGORIES:Business
URL;VALUE=URI:https://antheamcgibbon.com/mc-events/business-expo-in-kingsto
 n
METHOD:PUBLISH
END:VEVENT
END:VCALENDAR