BEGIN:VCALENDAR
VERSION:2.0
PRODID:spatie/icalendar-generator
DESCRIPTION:Events from Anthea McGibbon
X-WR-CALDESC:Events from Anthea McGibbon
REFRESH-INTERVAL;VALUE=DURATION:PT1440M
X-PUBLISHED-TTL:PT1440M
BEGIN:VTIMEZONE
TZID:America/Los_Angeles
BEGIN:DAYLIGHT
DTSTART:20250309T020000Z
TZOFFSETFROM:-0800
TZOFFSETTO:-0700
END:DAYLIGHT
BEGIN:STANDARD
DTSTART:20251102T020000Z
TZOFFSETFROM:-0700
TZOFFSETTO:-0800
END:STANDARD
BEGIN:DAYLIGHT
DTSTART:20260308T020000Z
TZOFFSETFROM:-0800
TZOFFSETTO:-0700
END:DAYLIGHT
END:VTIMEZONE
BEGIN:VTIMEZONE
TZID:UTC
BEGIN:STANDARD
DTSTART:20250725T075916Z
TZOFFSETFROM:+0000
TZOFFSETTO:+0000
END:STANDARD
END:VTIMEZONE
BEGIN:VEVENT
UID:86-40
DTSTAMP:20260421T075916Z
SUMMARY:Cycle ride to Negril
LOCATION:Highway Jamaica Kingston to Negril
ORGANIZER;CN=Arts and Culture:MAILTO:antheacommunications@yahoo.com
DTSTART;TZID=America/Los_Angeles:20251017T060000
DTEND;TZID=America/Los_Angeles:20251021T220000
X-ALT-DESC;FMTTYPE=TEXT/HTML:<p>Cycling from Kingston to Negril</p>\n
CATEGORIES:arts &amp; culture
URL;VALUE=URI:https://antheamcgibbon.com/mc-events/cycle-ride-to-negril
METHOD:PUBLISH
END:VEVENT
END:VCALENDAR